BEGIN:VCALENDAR
VERSION:2.0
PRODID:-//ChamberMaster//Event Calendar 2.0//EN
METHOD:PUBLISH
X-PUBLISHED-TTL:P3D
REFRESH-INTERVAL:P3D
CALSCALE:GREGORIAN
BEGIN:VEVENT
DTSTART:20250911T220000Z
DTEND:20250911T233000Z
X-MICROSOFT-CDO-ALLDAYEVENT:FALSE
SUMMARY:2025 City of Gloucester Mayoral Candidate Forum
DESCRIPTION:Download Sponsorship Form\n\n\n\nThe Greater Cape Ann Chamber of Commerce's Government Affairs Council Presents a Mayoral Candidate Forum on Thursday\, September 11\, 2025.  All 3 Mayoral Candidates have been invited to attend the forum.\n\n\n\nMayor Greg Verga (incumbent)\n\nPaul Lundberg (former City Councilor)\n\nJeff Worthley (Current At Large City Councilor)\n\n\n\n\n\nThis event is free and the public is invited to attend. The candidates will each be given the opportunity to answer several questions on a wide range of topics.
X-ALT-DESC;FMTTYPE=text/html:<span style="color:#000000\;"><span style="font-family: Arial\, serif\; font-size: 14px\;"><a href="https://chambermaster.blob.core.windows.net/userfiles/UserFiles/chambers/2981/File/2025CandidateForumSponsorOpportunities.pdf" target="_blank">Download Sponsorship Form</a><br />\n<br />\nThe Greater Cape Ann Chamber of Commerce&#39\;s Government Affairs Council Presents a Mayoral Candidate Forum on Thursday\, September 11\, 2025.&nbsp\; All 3 Mayoral Candidates have been invited to attend the forum.<br />\n<br />\nMayor Greg Verga (incumbent)<br />\nPaul Lundberg (former City Councilor)<br />\nJeff Worthley (Current At Large City Councilor)<br />\n<br />\n<br />\nThis event is free and the public is invited to attend.&nbsp\;The candidates will each be given the opportunity to answer several questions on a wide range of topics.</span></span><br />\n<br />\n&nbsp\;
LOCATION:This event will now be held virtually via ZOOM Please use the link below Gloucester Mayoral Candidate Forum The forum will also be livestreamed on the 1623 Studios YouTube channel at https://www.youtube.com/watch?v=W3FvyyIGmRU
UID:e.2981.43003
SEQUENCE:3
DTSTAMP:20260422T091623Z
URL:https://business.capeannchamber.com/events/details/2025-city-of-gloucester-mayoral-candidate-forum-43003
END:VEVENT

END:VCALENDAR
