BEGIN:VCALENDAR
VERSION:2.0
PRODID:-//ChamberMaster//Event Calendar 2.0//EN
METHOD:PUBLISH
X-PUBLISHED-TTL:P3D
REFRESH-INTERVAL:P3D
CALSCALE:GREGORIAN
BEGIN:VEVENT
DTSTART:20250917T140000Z
DTEND:20250917T160000Z
X-MICROSOFT-CDO-ALLDAYEVENT:FALSE
SUMMARY:2025 Beverly and Addison Gilbert Hospitals' Annual Community Benefits Meeting
DESCRIPTION:Community Benefits Annual Public Meeting\n\n\n\nLearn how Beverly and Addison Gilbert Hospitals collaborate with community partners to support programs aimed at improving the health and wellness of our communities.
X-ALT-DESC;FMTTYPE=text/html:<span style="color:#0000FF\;"><span style="font-size:18px\;"><strong>Community Benefits Annual Public Meeting</strong></span></span><br />\n<br />\nLearn how Beverly and Addison Gilbert Hospitals collaborate with community partners to support programs aimed at improving the health and wellness of our communities.
LOCATION:Beverly Hospital Lecture Hall
UID:e.2981.43049
SEQUENCE:3
DTSTAMP:20260425T011545Z
URL:https://business.capeannchamber.com/events/details/2025-beverly-and-addison-gilbert-hospitals-annual-community-benefits-meeting-43049
END:VEVENT

END:VCALENDAR
