BEGIN:VCALENDAR
VERSION:2.0
PRODID:-//ChamberMaster//Event Calendar 2.0//EN
METHOD:PUBLISH
X-PUBLISHED-TTL:P3D
REFRESH-INTERVAL:P3D
CALSCALE:GREGORIAN
BEGIN:VEVENT
DTSTART:20220828T170000Z
DTEND:20220828T200000Z
X-MICROSOFT-CDO-ALLDAYEVENT:FALSE
SUMMARY:200th Brazilian Independence Day Celebration
DESCRIPTION:Downtown Campus\, 27 Pleasant Street\, Gloucester\, MA \n\nFree and open to the public \n\nIndependence Day of Brazil\, or Sete de Setembro\, is officially celebrated on September 7 to mark Brazil's Declaration of Independence from Portugal on September 7\, 1822.  This year\, to celebrate the 200th anniversary\, the Cape Ann Museum and Action Inc. are working with local Brazilian community members to share Brazilian food\, culture\, music\, and dance in Downtown Gloucester. \n\nThe Brazilian community has been growing on Cape Ann for over 35 years\, mostly in Downtown Gloucester. Over 4\,000 Brazilians currently live across Cape Ann and have started businesses including local restaurants\, hair salons\, stores\, and cleaning companies. Taste salgadinhos\, dance capoeira\, and make your own Brazilian Flag during this afternoon celebration.
X-ALT-DESC;FMTTYPE=text/html:<p><em><span style="font-family:inherit">Downtown Campus\, 27 Pleasant Street\, Gloucester\, MA</span>&nbsp\;</em><br />\n<em>Free and open to the public</em><span style="font-family:inherit">&nbsp\;</span></p>\n\n<p><span style="font-family:inherit">Independence Day of Brazil\, or Sete de Setembro\, is officially celebrated on September 7 to mark Brazil&rsquo\;s Declaration of Independence from Portugal on September 7\, 1822.&nbsp\; This year\, to celebrate the 200</span><span style="font-family:inherit">th</span><span style="font-family:inherit">&nbsp\;anniversary\, the Cape Ann Museum and Action Inc.&nbsp\;are working with local Brazilian community members to share Brazilian food\, culture\, music\, and dance in Downtown Gloucester.</span><span style="font-family:inherit">&nbsp\;</span></p>\n\n<p><span style="font-family:inherit">The Brazilian community has been growing on Cape Ann for over 35 years\, mostly in Downtown Gloucester. Over 4\,000 Brazilians currently live across Cape Ann and have started businesses including local restaurants\, hair salons\, stores\, and cleaning companies. Taste salgadinhos\, dance capoeira\, and make your own Brazilian Flag during this afternoon celebration.</span><span style="font-family:inherit">&nbsp\;</span></p>\n
LOCATION:Cape Ann Museum 27 Pleasant St Gloucester\, MA 01930
UID:e.2981.22970
SEQUENCE:3
DTSTAMP:20260424T164645Z
URL:https://business.capeannchamber.com/events/details/200th-brazilian-independence-day-celebration-22970
END:VEVENT

END:VCALENDAR
