BEGIN:VCALENDAR
VERSION:2.0
PRODID:-//ChamberMaster//Event Calendar 2.0//EN
METHOD:PUBLISH
X-PUBLISHED-TTL:P3D
REFRESH-INTERVAL:P3D
CALSCALE:GREGORIAN
BEGIN:VEVENT
DTSTART:20221202T220000Z
DTEND:20221203T010000Z
X-MICROSOFT-CDO-ALLDAYEVENT:FALSE
SUMMARY:1st Annual Gloucester Parade of Trees
DESCRIPTION:The Gloucester Fishtown Horribles Parade invites you to our first annual Parade of Trees!! Come stroll down our rows of beautifully decorated trees donated by local community members and businesses! Purchase raffle tickets to enter your chance to win your favorites!\n\n\n\nThere will be family friendly special events and entertainment throughout the weekend.
X-ALT-DESC;FMTTYPE=text/html:<span style="color: rgb(86\, 92\, 104)\; font-family: Helvetica\, Arial\, sans-serif\; font-size: 14px\;">The Gloucester Fishtown Horribles Parade invites you to our first annual Parade of Trees!! Come stroll down our rows of beautifully decorated trees donated by local community members and businesses! Purchase raffle tickets to enter your chance to win your favorites!</span><br style="color: rgb(86\, 92\, 104)\; font-family: Helvetica\, Arial\, sans-serif\; font-size: 14px\;" />\n<br style="color: rgb(86\, 92\, 104)\; font-family: Helvetica\, Arial\, sans-serif\; font-size: 14px\;" />\n<span style="color: rgb(86\, 92\, 104)\; font-family: Helvetica\, Arial\, sans-serif\; font-size: 14px\;">There will be family friendly special events and entertainment throughout the weekend.</span>
LOCATION:First Baptist Church 38 Gloucester Avenue Gloucester\, MA 01930
UID:e.2981.23273
SEQUENCE:3
DTSTAMP:20260424T105239Z
URL:https://business.capeannchamber.com/events/details/1st-annual-gloucester-parade-of-trees-23273
END:VEVENT

END:VCALENDAR
