BEGIN:VCALENDAR
VERSION:2.0
PRODID:-//ChamberMaster//Event Calendar 2.0//EN
METHOD:PUBLISH
X-PUBLISHED-TTL:P3D
REFRESH-INTERVAL:P3D
CALSCALE:GREGORIAN
BEGIN:VEVENT
DTSTART:20250117T230000Z
DTEND:20250118T040000Z
X-MICROSOFT-CDO-ALLDAYEVENT:FALSE
SUMMARY:103rd Annual Celebration
DESCRIPTION:Please RSVP by January 10th by purchasing tickets using the Register Button (above) or by calling 978-283-1601.\n\n\n\nDOWNLOAD INVITATION PDF\n\n\n\nYou are cordially invited to join us in celebrating 2025 Board President Jim Brown\, Coldwell Banker Realty & 2024 Board President Karen Ristuben\, Essex County Community Foundation\n\n\n\nJoin us as we welcome our incoming 2025 President and Board of Directors as the theme of 'Powered by Local - Together we Thrive' is introduced. Our goal this year is to empower and encourage the greater Cape Ann communities to support\, shop and engage our local businesses in every way possible. \n\n\n\nLive Music by 'Musical Chairs'\n\nThe Musical Chairs band was founded by longtime drummer and Manchester-by-the-Sea native\, Peter Koeplin\, and is a revolving collection of the finest musicians and players on Boston's north shore. The Chamber's Annual Celebration will feature the following artists:\n\n	    Local legendary guitarist\, troubadour\, and frontman Dan King (KBMG\, Safety)\n	    Funk\, classic rock & guitar virtuoso Mark Pelosi (Groove Therapy\, Shagalot)\n	    Master bassist and low end doctor\, Vincent Briguglio (Hey Nineteen\, Sultans of Swing)\n\n They will be jamming an eclectic mix of classic rock and funk classics from bands such as Grateful Dead\, Led Zeppelin\, Velvet Underground\, Bob Dylan\, Talking Heads\, Rolling Stones\, the Beatles and many more!
X-ALT-DESC;FMTTYPE=text/html:<span style="color:#000000\;"><span style="font-size:16px\;">Please <strong>RSVP </strong>by January 10th by purchasing tickets using the <strong>Register Button</strong> (above</span>)&nbsp\;<span style="font-size:16px\;">or by calling 978-283-1601.<br />\n<br />\n<a href="https://chambermaster.blob.core.windows.net/userfiles/UserFiles/chambers/2981/File/2025-Invitation-Final.pdf">DOWNLOAD INVITATION PDF</a><br />\n<br />\nYou are cordially invited to join us in celebrating 2025 Board President Jim Brown\, Coldwell Banker Realty &amp\; 2024 Board President Karen Ristuben\, Essex County Community Foundation<br />\n<br />\nJoin us as we welcome our incoming 2025 President and Board of Directors as the theme of &#39\;<strong>Powered by Local - Together we Thrive&#39\;</strong> is introduced. Our goal this year is to empower and encourage the greater Cape Ann communities to support\, shop and engage our local businesses in every way possible.&nbsp\;<br />\n<br />\nLive Music by<strong> &#39\;Musical Chairs&#39\;</strong><br />\nThe <strong>Musical Chairs</strong> band was founded by longtime drummer and Manchester-by-the-Sea native\, Peter Koeplin\, and is a revolving collection of the finest musicians and players on Boston&#39\;s north shore. The Chamber&#39\;s Annual Celebration will feature the following artists:</span></span>\n<ul>\n	<li><span style="color:#000000\;">&nbsp\;&nbsp\;<em>&nbsp\; L</em><span style="font-size: 16px\;"><em><em>ocal legendary g</em>uitarist\, troubadour\, and frontman <strong>Dan King</strong> (KBMG\, Safety)</em></span></span></li>\n	<li><span style="color:#000000\;">&nbsp\;&nbsp\;&nbsp\;&nbsp\;<span style="font-size:16px\;"><em>Funk\, classic rock &amp\; guitar virtuoso <strong>Mark Pelosi </strong>(Groove Therapy\, Shagalot)</em></span></span></li>\n	<li><span style="color:#000000\;">&nbsp\;&nbsp\;&nbsp\;&nbsp\;<em>M</em><span style="font-size:16px\;"><em><em>aster </em>bassist and low end doctor\, <strong>Vincent Briguglio</strong> (Hey Nineteen\, Sultans of Swing)</em></span></span></li>\n</ul>\n<span style="color:#000000\;"> <span style="font-size:16px\;">They will be jamming an eclectic mix of classic rock and funk classics from bands such as Grateful Dead\, Led Zeppelin\, Velvet Underground\, Bob Dylan\, Talking Heads\, Rolling Stones\, the Beatles and many more!</span></span><br />\n&nbsp\;\n<p style="margin: 0in\;">&nbsp\;</p>\n
LOCATION:The Beauport Hotel
UID:e.2981.34231
SEQUENCE:3
DTSTAMP:20260424T164410Z
URL:https://business.capeannchamber.com/events/details/103rd-annual-celebration-34231
END:VEVENT

END:VCALENDAR
