BEGIN:VCALENDAR
VERSION:2.0
PRODID:-//ChamberMaster//Event Calendar 2.0//EN
METHOD:PUBLISH
X-PUBLISHED-TTL:P3D
REFRESH-INTERVAL:P3D
CALSCALE:GREGORIAN
BEGIN:VEVENT
DTSTART;VALUE=DATE:20260106
DTEND;VALUE=DATE:20260107
TRANSP:TRANSPARENT
X-MICROSOFT-CDO-ALLDAYEVENT:TRUE
SUMMARY:$10 Bar Bites for 10 Years of Beauport
DESCRIPTION:To celebrate entering our tenth year at Beauport Hotel Gloucester\, we're marking the occasion with Ten Years\, Ten-Dollar Tastes\, a curated menu of $10 bar bites inspired by coastal classics and elevated comfort. From Shrimp & Grits with Old Bay butter and crispy Crab Bites to Octopus Frito\, fresh oysters and clams\, and crave-worthy favorites like Butternut Squash Arancini and our signature Smash Burger\, each bite is thoughtfully crafted and meant to be enjoyed by the harbor. It's our way of saying thank you   for ten incredible years on Cape Ann and for every moment shared at the bar. Cheers to what's next.  $10 Bar Bites will be available Sunday - Thursday\, from 4:00PM - 7:00P. Only available in the bar.
X-ALT-DESC;FMTTYPE=text/html:<p><span style="font-size:12px"><span style="color:rgb(30\, 30\, 30)\; font-family:brandontext\,helvetica neue\,helvetica\,arial\,opentablehiragino\,roboto\,droid sans\,??????\,opentableyugothic\,yugothic\,yu gothic\,????\,meiryo\,ms p????\,ms pgothic\,sans-serif">To celebrate entering our tenth year at Beauport Hotel Gloucester\, we&rsquo\;re marking the occasion with&nbsp\;</span><span style="color:rgb(30\, 30\, 30)\; font-family:brandontext\,helvetica neue\,helvetica\,arial\,opentablehiragino\,roboto\,droid sans\,??????\,opentableyugothic\,yugothic\,yu gothic\,????\,meiryo\,ms p????\,ms pgothic\,sans-serif">Ten Years\, Ten-Dollar Tastes\,</span><span style="color:rgb(30\, 30\, 30)\; font-family:brandontext\,helvetica neue\,helvetica\,arial\,opentablehiragino\,roboto\,droid sans\,??????\,opentableyugothic\,yugothic\,yu gothic\,????\,meiryo\,ms p????\,ms pgothic\,sans-serif">&nbsp\;a curated menu of $10 bar bites inspired by coastal classics and elevated comfort. From Shrimp &amp\; Grits with Old Bay butter and crispy Crab Bites to Octopus Frito\, fresh oysters and clams\, and crave-worthy favorites like Butternut Squash Arancini and our signature Smash Burger\, each bite is thoughtfully crafted and meant to be enjoyed by the harbor. It&rsquo\;s our way of saying thank you &mdash\; for ten incredible years on Cape Ann and for every moment shared at the bar. Cheers to what&rsquo\;s next.&nbsp\; $10 Bar Bites will be available Sunday - Thursday\, from 4:00PM - 7:00P. Only available in the bar.&nbsp\;</span></span></p>\n
LOCATION:55 Commercial Street Gloucester\, MA 01930
UID:e.2981.45878
SEQUENCE:3
DTSTAMP:20260425T151728Z
URL:https://business.capeannchamber.com/events/details/10-bar-bites-for-10-years-of-beauport-45878
END:VEVENT

END:VCALENDAR
