BEGIN:VCALENDAR
VERSION:2.0
PRODID:-//ChamberMaster//Event Calendar 2.0//EN
METHOD:PUBLISH
X-PUBLISHED-TTL:P3D
REFRESH-INTERVAL:P3D
CALSCALE:GREGORIAN
BEGIN:VEVENT
DTSTART:20211022T000000Z
DTEND:20211022T020000Z
X-MICROSOFT-CDO-ALLDAYEVENT:FALSE
SUMMARY:10\,000 Maniacs at Shalin Liu
DESCRIPTION:The acclaimed folk rock group dominated the airwaves in the late 80's and 90's with FM radio staples like "These Are Days" "Trouble Me" and "More Than This\," leading a trend of fiercely independent\, socially conscious bands that would become known as alternative rock. Now with violist and vocalist Mary Ramsey leading the way\, the band makes no sign of slowing down.
X-ALT-DESC;FMTTYPE=text/html:The acclaimed folk rock group dominated the airwaves in the late 80&rsquo\;s and 90&rsquo\;s with FM radio staples like &ldquo\;These Are Days&rdquo\; &ldquo\;Trouble Me&rdquo\; and &ldquo\;More Than This\,&rdquo\; leading a trend of fiercely independent\, socially conscious bands that would become known as alternative rock. Now with violist and vocalist Mary Ramsey leading the way\, the band makes no sign of slowing down.
LOCATION:
UID:e.2981.21221
SEQUENCE:3
DTSTAMP:20260424T110414Z
URL:https://business.capeannchamber.com/events/details/10-000-maniacs-at-shalin-liu-21221
END:VEVENT

END:VCALENDAR
