BEGIN:VCALENDAR
VERSION:2.0
PRODID:-//ChamberMaster//Event Calendar 2.0//EN
METHOD:PUBLISH
X-PUBLISHED-TTL:P3D
REFRESH-INTERVAL:P3D
CALSCALE:GREGORIAN
BEGIN:VEVENT
DTSTART:20251026T130000Z
DTEND:20251026T150000Z
X-MICROSOFT-CDO-ALLDAYEVENT:FALSE
SUMMARY:1-Year Anniversary Party at Revive Wellness! FREE COMMUNITY EVENT
DESCRIPTION:We're celebrating one amazing year thanks to YOU\, our community! Join us for light refreshments\, good vibes\, and a toast to wellness. FREE COMMUNITY EVENT! Bring friends\, family and celebrate with us. We are thankful for everyone who has supported our first year in business.
X-ALT-DESC;FMTTYPE=text/html:<span style="color:rgba(0\,0\,0\,var(--O42jJQ\,1))">We&rsquo\;re celebrating one amazing year thanks to </span><strong>YOU</strong><span style="color:rgba(0\,0\,0\,var(--O42jJQ\,1))">\, our community! Join us for </span><strong>light refreshments</strong><span style="color:rgba(0\,0\,0\,var(--O42jJQ\,1))">\, </span><strong>good vibes</strong><span style="color:rgba(0\,0\,0\,var(--O42jJQ\,1))">\, and </span><strong>a toast to wellness</strong><span style="color:rgba(0\,0\,0\,var(--O42jJQ\,1))">. FREE COMMUNITY EVENT! Bring friends\, family and celebrate with us. We are thankful for everyone who has supported our first year in business.</span>
LOCATION:Revive Wellness 232 Main St Gloucester 01930
UID:e.2981.44875
SEQUENCE:3
DTSTAMP:20260422T073545Z
URL:https://business.capeannchamber.com/events/details/1-year-anniversary-party-at-revive-wellness-free-community-event-44875
END:VEVENT

END:VCALENDAR
