BEGIN:VCALENDAR
VERSION:2.0
PRODID:-//ChamberMaster//Event Calendar 2.0//EN
METHOD:PUBLISH
X-PUBLISHED-TTL:P3D
REFRESH-INTERVAL:P3D
CALSCALE:GREGORIAN
BEGIN:VEVENT
DTSTART;VALUE=DATE:20210509
DTEND;VALUE=DATE:20210510
TRANSP:TRANSPARENT
X-MICROSOFT-CDO-ALLDAYEVENT:TRUE
SUMMARY:Mother's Day at Minglewood Harborside
DESCRIPTION:Minglewood Harborside will be offering the below specials in addition to their dinner menu this Mother's Day. \n\n \n\nPan Seared Cod\n\nroasted potatoes\, asparagus\, pancetta\, beurre blanc\, crispy fried leeks \n\nChocolate Strawberry Creme Br l e \n\n\nBecause we believe that Moms deserve something extra special this year\, every Mom who dines at with us will receive a flower.
X-ALT-DESC;FMTTYPE=text/html:<p><a href="https://minglewoodharborside.com/" style="box-sizing: border-box\; background: transparent\; color: rgb(42\, 100\, 150)\; text-decoration-line: none\; backface-visibility: hidden\; outline: transparent !important\;">Minglewood Harborside</a>&nbsp\;will be offering the below specials in addition to their dinner menu this Mother&#39\;s Day.&nbsp\;</p>\n\n<p>&nbsp\;</p>\n\n<p>Pan Seared Cod<br />\n<em>roasted potatoes\, asparagus\, pancetta\, beurre blanc\, crispy fried leeks&nbsp\;</em></p>\n\n<p>Chocolate Strawberry Creme Br&ucirc\;l&eacute\;e&nbsp\;</p>\n<br />\n<span style="font-size:12px"><span style="font-family:arial\,helvetica\,sans-serif"><span style="color:rgb(80\, 80\, 80)">Because we believe that Moms deserve something extra special this year\, every Mom who dines at with us will receive a flower.&nbsp\;</span></span></span>
LOCATION:25 Rogers Street Gloucester\, MA 01930
UID:e.2981.20763
SEQUENCE:3
DTSTAMP:20260424T213822Z
URL:http://business.capeannchamber.com/events/details/mother-s-day-at-minglewood-harborside-20763
END:VEVENT

END:VCALENDAR
