BEGIN:VCALENDAR
VERSION:2.0
PRODID:-//ChamberMaster//Event Calendar 2.0//EN
METHOD:PUBLISH
X-PUBLISHED-TTL:P3D
REFRESH-INTERVAL:P3D
CALSCALE:GREGORIAN
BEGIN:VEVENT
DTSTART:20191018T230000Z
DTEND:20191019T003000Z
X-MICROSOFT-CDO-ALLDAYEVENT:FALSE
SUMMARY:Kirtan
DESCRIPTION:Music that raises consciousness\, unites your soul and calms your mind.\n\n\nBringing heart and sound together as one infinite rhythmic breath.\n\nFostering a spirited community using healing vibrations.\n\n\n\nThis is a meditation group reciting maha mantras and devotional songs in a call & response fashion that heals the heart and mind. Chanting ancient names of sages\, saints and masters of the Divine. Come practice and unite your inner expression with us.\n\n\n\nStarting this fall\, monthly Sadhana at 7:00pm with Nada Brahma Kirtan. \n\n$15 donation appreciated\n\n\n\nTo reserve your spot click on the link:\n\nhttps://www.ayurvedawellnesshealing.com/event/kirtan-with-nada-brahma-2019-10-18/\n\n\n\nAyurveda Wellness Healing\, LLC\n\n25 Lexington Ave\, 2nd Fl. Magnolia\, MA 01930\n\n978-395-1234\n\nwww.ayurvedawellnesshealing.com
X-ALT-DESC;FMTTYPE=text/html:<span style="font-family:arial\,sans-serif\; font-size:18px">Music that raises consciousness\, unites your soul and calms your mind.</span>\n<div><br />\n<span style="font-family:arial\,sans-serif\; font-size:18px">Bringing heart and sound together as one infinite rhythmic breath.</span><br />\n<span style="font-family:arial\,sans-serif\; font-size:18px">Fostering a spirited community using healing vibrations.</span><br />\n<br />\n<span style="font-family:arial\,sans-serif\; font-size:18px">This is a meditation group reciting maha mantras and devotional songs in a call &amp\; response fashion that heals the heart and mind. Chanting ancient names of sages\, saints and masters of the Divine. Come practice and unite your inner expression with us.</span><br />\n<br />\n<span style="font-family:arial\,sans-serif\; font-size:18px">Starting this fall\, monthly Sadhana at 7:00pm with Nada Brahma Kirtan.&nbsp\;</span><br />\n<span style="font-family:arial\,sans-serif\; font-size:18px">$15 donation appreciated</span><br />\n<br />\n<span style="font-family:arial\,sans-serif\; font-size:18px">To reserve your spot click on the link:</span><br />\n<a href="https://www.ayurvedawellnesshealing.com/event/kirtan-with-nada-brahma-2019-10-18/?fbclid=IwAR0274fumnWGaW9TDqHLKf4QCAYaUCU6hpyMS241ZpX0LxKLapVEcZRn9I4" rel="noopener noreferrer" style="text-decoration: none\; color: rgb(15\, 103\, 185)\; font-family: arial\, sans-serif\; font-size: 18px\;" target="_blank">https://www.ayurvedawellnesshealing.com/event/kirtan-with-nada-brahma-2019-10-18/</a><br />\n<br />\n<span style="font-family:arial\,sans-serif\; font-size:18px">Ayurveda Wellness Healing\, LLC</span><br />\n<span style="font-family:arial\,sans-serif\; font-size:18px">25 Lexington Ave\, 2nd Fl. Magnolia\, MA 01930</span><br />\n<span style="font-family:arial\,sans-serif\; font-size:18px">978-395-1234</span><br />\n<a href="https://l.facebook.com/l.php?u=http%3A%2F%2Fwww.ayurvedawellnesshealing.com%2F%3Ffbclid%3DIwAR2YU3SuBHUHqjgLJ1NwN61MKszoUrmLHur1PrMmM0McMszn4lH_kKazEq4&amp\;h=AT2YYbVF7s1mqSlMRqMV8nIHMdwk_gIu0YhXQVSqTThT2noEm1yougfg16nk9NowtG3MmVFhLPEGmeESkz6DvVNVTq7M4jLzU1EoeaBz2119hoEBFU5dC3x59aCj2_dmU2VlqoQvALZknTO_utWegik" rel="noopener noreferrer" style="text-decoration: none\; color: rgb(15\, 103\, 185)\; font-family: arial\, sans-serif\; font-size: 18px\;" target="_blank">www.ayurvedawellnesshealing.com</a></div>\n
LOCATION:Ayurveda Wellness Healing 25C Lexington Ave\, 2nd Floor Magnolia\, MA 01930
UID:e.2981.17271
SEQUENCE:3
DTSTAMP:20260421T031055Z
URL:http://business.capeannchamber.com/events/details/kirtan-17271
END:VEVENT

END:VCALENDAR
