BEGIN:VCALENDAR
VERSION:2.0
PRODID:-//ChamberMaster//Event Calendar 2.0//EN
METHOD:PUBLISH
X-PUBLISHED-TTL:P3D
REFRESH-INTERVAL:P3D
CALSCALE:GREGORIAN
BEGIN:VEVENT
DTSTART:20240828T230000Z
DTEND:20240829T023000Z
X-MICROSOFT-CDO-ALLDAYEVENT:FALSE
SUMMARY:Gloucester Schooner Festival Kick-off Concert with Booty Vortex
DESCRIPTION:8/28/24\n\n21+\, Positive I.D. Required. 7:00pm Doors / 7:30pm Show\n\nReserved Seating and G.A Standing $25-35\n\n\n\nKick off the 40th with a pre-Festival bash at THE CUT\, a world-class concert venue and the newest Gloucester Schooner Festival sponsor! \n\n\n\nWelcome to the 40th Annual Gloucester Schooner Festival! This year\, the festival starts with a kick off concert on Wednesday Evening\, August 28th\, 2024 and concludes with the schooner race on Sunday\, September 1st\, 2024 (with Labor Day Monday held as a rain date).  This capstone to the summer is steeped in history and jam-packed with events and opportunities to get up-close and personal with these beautiful ships. The Gloucester Schooner Festival has become a Labor Day weekend tradition for thousands of people every year and we hope you will join us in this year's historic festivities!\n\n\n\n The Gloucester Schooner Festival is put on by Maritime Gloucester. Every year schooners from all over travel to Gloucester Harbor to participate in a weekend like no other.  Whether under sail\, chartering\, racing\, or as a dock-side attraction\, these magnificent vessels have thrilled audiences each and every year for the past 40 years. This website is designed to offer all the information you will need to plan an exciting weekend on and off the water. \n\n\n\nGet ready! Some of the finest\, funkiest musicians from across New England have banded together to play the groovy tunes from the '70s. These timeless disco\, funk songs will have you shakin' what yo' mama gave ya! And the heat these players/singers bring is guaranteed to knock you off your feet! If there's a hole in your life\, if your dancing shoes are staring at you woefully from the back of the closet\, or if you just love to dance\, then you need to spend some time in the Vortex. Renew your spirit\, get your groove on\, and experience the power of Booty Vortex!
X-ALT-DESC;FMTTYPE=text/html:<span style="color:rgb(64\, 64\, 65)\; font-family:open sans\,sans-serif\; font-size:14px">8/28/24</span><br />\n<span style="color:rgb(64\, 64\, 65)\; font-family:open sans\,sans-serif\; font-size:14px">21+\, Positive I.D. Required. 7:00pm Doors / 7:30pm Show</span><br />\n<span style="color:rgb(64\, 64\, 65)\; font-family:open sans\,sans-serif\; font-size:14px">Reserved Seating and G.A Standing $25-35</span><br />\n<br />\n<span style="color:rgb(64\, 64\, 65)\; font-family:open sans\,sans-serif\; font-size:14px">Kick off the 40th with a pre-Festival bash at THE CUT\, a world-class concert venue and the newest Gloucester Schooner Festival sponsor!&nbsp\;</span><br />\n<br />\n<span style="color:rgb(64\, 64\, 65)\; font-family:open sans\,sans-serif\; font-size:14px">Welcome to the 40th Annual Gloucester Schooner Festival! This year\, the festival starts with a kick off concert on Wednesday Evening\, August 28th\, 2024 and concludes with the schooner race on Sunday\, September 1st\, 2024 (with Labor Day Monday held as a rain date).&nbsp\; This capstone to the summer is steeped in history and jam-packed with events and opportunities to get up-close and personal with these beautiful ships.&nbsp\;The Gloucester Schooner Festival has become a Labor Day weekend tradition for thousands of people every year and we hope you will join us in this year&#39\;s historic festivities!</span><br />\n<br />\n<span style="color:rgb(64\, 64\, 65)\; font-family:open sans\,sans-serif\; font-size:14px">&nbsp\;The Gloucester Schooner Festival is put on by&nbsp\;Maritime Gloucester. Every year schooners from all over travel to Gloucester Harbor to participate in a weekend like no other.&nbsp\; Whether under sail\, chartering\, racing\, or as a dock-side attraction\, these magnificent vessels have thrilled audiences each and every year for the past 40 years. This website is designed to offer all the information you will need to plan an exciting weekend on and off the water.&nbsp\;</span><br />\n<br />\n<span style="color:rgb(64\, 64\, 65)\; font-family:open sans\,sans-serif\; font-size:14px">Get ready! Some of the finest\, funkiest musicians from across New England have banded together to play the groovy tunes from the &rsquo\;70s. These timeless disco\, funk songs will have you shakin&#39\; what yo&#39\; mama gave ya! And the heat these players/singers bring is guaranteed to knock you off your feet! If there&#39\;s a hole in your life\, if your dancing shoes are staring at you woefully from the back of the closet\, or if you just love to dance\, then you need to spend some time in the Vortex. Renew your spirit\, get your groove on\, and experience the power of Booty Vortex!</span>
LOCATION:The Cut 177 Main Street Gloucester\, MA 01930
UID:e.2981.32679
SEQUENCE:3
DTSTAMP:20260420T193935Z
URL:http://business.capeannchamber.com/events/details/gloucester-schooner-festival-kick-off-concert-with-booty-vortex-32679
END:VEVENT

END:VCALENDAR
